BEGIN:VCALENDAR
VERSION:2.0
PRODID:-//https://catalystschools.org//NONSGML kigkonsult.se iCalcreator 2.
 22//
METHOD:PUBLISH
X-WR-CALNAME:JCal Pro Calendar
X-WR-CALDESC:Your online events calendar
X-WR-TIMEZONE:America/Chicago
BEGIN:VTIMEZONE
TZID:America/Chicago
X-LIC-LOCATION:America/Chicago
BEGIN:STANDARD
DTSTART:20251102T020000
TZOFFSETFROM:-0500
TZOFFSETTO:-0600
RDATE:20261101T020000
TZNAME:CST
END:STANDARD
BEGIN:DAYLIGHT
DTSTART:20260308T020000
TZOFFSETFROM:-0600
TZOFFSETTO:-0500
RDATE:20270314T020000
TZNAME:CDT
END:DAYLIGHT
END:VTIMEZONE
BEGIN:VEVENT
UID:20260323T180000UTC-c2a0a1@https://catalystschools.org/
DTSTAMP:20260420T083339Z
CATEGORIES:The Catalyst Schools
DESCRIPTION:<p><span style='font-size: 10pt\; line-height: 115%\; font-fami
 ly: 'Times New Roman'\, serif\;'>Spring Break - <span style='text-decorati
 on: underline\;'>NO SCHOOL</span></span></p>
DTSTART;TZID=America/Chicago:20260323T130000
DTEND;TZID=America/Chicago:20260330T130000
SUMMARY:Spring Break - NO SCHOOL
URL:https://catalystschools.org/circle-rock/calendar/27-the-catalyst-school
 s/533-spring-break-no-school
END:VEVENT
END:VCALENDAR
