BEGIN:VCALENDAR
VERSION:2.0
PRODID:-//https://catalystschools.org//NONSGML kigkonsult.se iCalcreator 2.
 22//
METHOD:PUBLISH
X-WR-CALNAME:JCal Pro Calendar
X-WR-CALDESC:Your online events calendar
X-WR-TIMEZONE:America/Chicago
BEGIN:VTIMEZONE
TZID:America/Chicago
X-LIC-LOCATION:America/Chicago
BEGIN:STANDARD
DTSTART:20211107T020000
TZOFFSETFROM:-0500
TZOFFSETTO:-0600
RDATE:20221106T020000
TZNAME:CST
END:STANDARD
BEGIN:DAYLIGHT
DTSTART:20220313T020000
TZOFFSETFROM:-0600
TZOFFSETTO:-0500
RDATE:20230312T020000
TZNAME:CDT
END:DAYLIGHT
END:VTIMEZONE
BEGIN:VEVENT
UID:20220221T190000UTC-0151d4@https://catalystschools.org/
DTSTAMP:20260425T143538Z
CATEGORIES:The Catalyst Schools,Circle Rock Charter,Maria Charter
DESCRIPTION:<p>Presidents’ Day - NO SCHOOL</p>
DTSTART;VALUE=DATE:20220221
DTEND;VALUE=DATE:20220222
SUMMARY:Presidents’ Day - NO SCHOOL
URL:https://catalystschools.org/maria/calendar/27-the-catalyst-schools/440-
 presidents-day-no-school
END:VEVENT
END:VCALENDAR
