BEGIN:VCALENDAR
VERSION:2.0
PRODID:-//https://catalystschools.org//NONSGML kigkonsult.se iCalcreator 2.
 22//
METHOD:PUBLISH
X-WR-CALNAME:JCal Pro Calendar
X-WR-CALDESC:Your online events calendar
X-WR-TIMEZONE:America/Chicago
BEGIN:VTIMEZONE
TZID:America/Chicago
X-LIC-LOCATION:America/Chicago
BEGIN:STANDARD
DTSTART:20211107T020000
TZOFFSETFROM:-0500
TZOFFSETTO:-0600
RDATE:20221106T020000
TZNAME:CST
END:STANDARD
BEGIN:DAYLIGHT
DTSTART:20210314T020000
TZOFFSETFROM:-0600
TZOFFSETTO:-0500
RDATE:20220313T020000
TZNAME:CDT
END:DAYLIGHT
END:VTIMEZONE
BEGIN:VEVENT
UID:20210616T180000UTC-c84530@https://catalystschools.org/
DTSTAMP:20260426T041149Z
CATEGORIES:The Catalyst Schools,Circle Rock Charter,Maria Charter
DESCRIPTION:<p>Last day of 2020-2021 school year for scholars unless emerge
 ncy make-up days necessary</p>
DTSTART;VALUE=DATE:20210616
DTEND;VALUE=DATE:20210617
SUMMARY:Last day of 2020-2021 school year 
URL:https://catalystschools.org/stay-connected/calendar/27-the-catalyst-sch
 ools/418-last-day-of-2020-2021-school-year
END:VEVENT
END:VCALENDAR
