BEGIN:VCALENDAR
VERSION:2.0
PRODID:-//https://catalystschools.org//NONSGML kigkonsult.se iCalcreator 2.
 22//
METHOD:PUBLISH
X-WR-CALNAME:JCal Pro Calendar
X-WR-CALDESC:Your online events calendar
X-WR-TIMEZONE:America/Chicago
BEGIN:VTIMEZONE
TZID:America/Chicago
X-LIC-LOCATION:America/Chicago
BEGIN:STANDARD
DTSTART:20211107T020000
TZOFFSETFROM:-0500
TZOFFSETTO:-0600
RDATE:20221106T020000
TZNAME:CST
END:STANDARD
BEGIN:DAYLIGHT
DTSTART:20210314T020000
TZOFFSETFROM:-0600
TZOFFSETTO:-0500
RDATE:20220313T020000,20230312T020000
TZNAME:CDT
END:DAYLIGHT
END:VTIMEZONE
BEGIN:VEVENT
UID:20211011T180000UTC-a26610@https://catalystschools.org/
DTSTAMP:20260422T085313Z
CATEGORIES:The Catalyst Schools,Circle Rock Charter,Maria Charter
DESCRIPTION:<p><span style='font-size: 14pt\; line-height: 115%\; font-fami
 ly: 'Times New Roman'\, serif\; letter-spacing: -0.05pt\;'>Indigenous Peop
 les’</span><span style='font-size: 14pt\; line-height: 115%\; font-family:
  'Times New Roman'\, serif\; letter-spacing: 0.1pt\;'>D</span><span style=
 'font-size: 14pt\; line-height: 115%\; font-family: 'Times New Roman'\, se
 rif\; letter-spacing: 0.15pt\;'>a</span><span style='font-size: 14pt\; lin
 e-height: 115%\; font-family: 'Times New Roman'\, serif\;'>y</span></p>
DTSTART;VALUE=DATE:20211011
DTEND;VALUE=DATE:20211012
SUMMARY:Indigenous Peoples’ Day- No School 
URL:https://catalystschools.org/stay-connected/calendar/27-the-catalyst-sch
 ools/444-indigenous-peoples-day-no-school
END:VEVENT
END:VCALENDAR
