BEGIN:VCALENDAR
VERSION:2.0
PRODID:-//https://catalystschools.org//NONSGML kigkonsult.se iCalcreator 2.
 22//
METHOD:PUBLISH
X-WR-CALNAME:JCal Pro Calendar
X-WR-CALDESC:Your online events calendar
X-WR-TIMEZONE:America/Chicago
BEGIN:VTIMEZONE
TZID:America/Chicago
X-LIC-LOCATION:America/Chicago
BEGIN:STANDARD
DTSTART:20251102T020000
TZOFFSETFROM:-0500
TZOFFSETTO:-0600
RDATE:20261101T020000,20271107T020000
TZNAME:CST
END:STANDARD
BEGIN:DAYLIGHT
DTSTART:20260308T020000
TZOFFSETFROM:-0600
TZOFFSETTO:-0500
RDATE:20270314T020000
TZNAME:CDT
END:DAYLIGHT
END:VTIMEZONE
BEGIN:VEVENT
UID:20260424T180000UTC-0d64e9@https://catalystschools.org/
DTSTAMP:20260422T084513Z
CATEGORIES:The Catalyst Schools
DESCRIPTION:<p><span style='font-size: 10pt\; line-height: 115%\; font-fami
 ly: 'Times New Roman'\, serif\; position: relative\; top: 0.5pt\;'>Faculty
 /Staff Professional Development – <span style='text-decoration: underline\
 ;'>NO SCHOOL</span> for scholars&nbsp\;</span></p>
DTSTART;VALUE=DATE:20260424
DTEND;VALUE=DATE:20260425
SUMMARY:Faculty/Staff Professional Development – NO SCHOOL for scholars 
URL:https://catalystschools.org/stay-connected/calendar/27-the-catalyst-sch
 ools/529-faculty-staff-professional-development-no-school-for-scholars
END:VEVENT
BEGIN:VEVENT
UID:20260518T200000UTC-b9180e@https://catalystschools.org/
DTSTAMP:20260422T084513Z
CATEGORIES:The Catalyst Schools
DESCRIPTION:<p>Catalyst Board of Directors Meeting</p>
DTSTART;TZID=America/Chicago:20260518T150000
DTEND;TZID=America/Chicago:20260518T170000
SUMMARY:Catalyst Board of Directors Meeting
URL:https://catalystschools.org/stay-connected/calendar/27-the-catalyst-sch
 ools/548-catalyst-board-of-directors-meeting
END:VEVENT
BEGIN:VEVENT
UID:20250525T180000UTC-205543@https://catalystschools.org/
DTSTAMP:20260422T084513Z
CATEGORIES:The Catalyst Schools
DESCRIPTION:<p style='margin: 0in -1pt 0in 15pt\; line-height: 11.3pt\;'><s
 pan style='font-size: 10pt\; font-family: 'Times New Roman'\, serif\; posi
 tion: relative\; top: 0.5pt\;'>M<span style='letter-spacing: 0.05pt\;'>e</
 span><span style='letter-spacing: -0.2pt\;'>m</span><span style='letter-sp
 acing: 0.05pt\;'>or</span>ial D<span style='letter-spacing: 0.15pt\;'>a</s
 pan>y-<span style='text-decoration: underline\;'>NO<span style='letter-spa
 cing: 0.1pt\;'>&nbsp\;S</span><span style='letter-spacing: -0.05pt\;'>C</s
 pan>HO<span style='letter-spacing: 0.15pt\;'>O</span>L</span></span></p>
DTSTART;VALUE=DATE:20260525
DTEND;VALUE=DATE:20260526
SUMMARY:Memorial Day - NO SCHOOL
URL:https://catalystschools.org/stay-connected/calendar/27-the-catalyst-sch
 ools/532-memorial-day-no-school
END:VEVENT
BEGIN:VEVENT
UID:20260604T180000UTC-63e5dc@https://catalystschools.org/
DTSTAMP:20260422T084513Z
CATEGORIES:The Catalyst Schools
DESCRIPTION:<p style='margin: 1.65pt -1pt 0in 15pt\; line-height: normal\;'
 ><span style='font-size: 10pt\; font-family: 'Times New Roman'\, serif\; l
 etter-spacing: -0.15pt\;'>L</span><span style='font-size: 10pt\; font-fami
 ly: 'Times New Roman'\, serif\;'>ast&nbsp\;<span style='letter-spacing: 0.
 05pt\;'>d</span><span style='letter-spacing: 0.15pt\;'>a</span>y&nbsp\;<sp
 an style='letter-spacing: 0.05pt\;'>o</span>f&nbsp\;<span style='letter-sp
 acing: 0.05pt\;'>2025</span><span style='letter-spacing: 0.15pt\;'>-2026&n
 bsp\;</span><span style='letter-spacing: -0.05pt\;'>s</span>c<span style='
 letter-spacing: -0.05pt\;'>h</span><span style='letter-spacing: 0.05pt\;'>
 oo</span>l&nbsp\;<span style='letter-spacing: -0.15pt\;'>y</span>e<span st
 yle='letter-spacing: 0.05pt\;'>a</span>r <span style='letter-spacing: -0.1
 pt\;'>for scholars </span>unless emergency make-up days necessary</span></
 p>
DTSTART;VALUE=DATE:20260604
DTEND;VALUE=DATE:20260605
SUMMARY:Last day of 2025-2026 school year for scholars unless emergency mak
 e-up days necessary
URL:https://catalystschools.org/stay-connected/calendar/27-the-catalyst-sch
 ools/530-last-day-of-2025-2026-school-year-for-scholars-unless-emergency-m
 ake-up-days-necessary
END:VEVENT
BEGIN:VEVENT
UID:20260619T180000UTC-6130d0@https://catalystschools.org/
DTSTAMP:20260422T084513Z
CATEGORIES:The Catalyst Schools
DESCRIPTION:<p>Juneteenth- Catalyst Schools Closed</p>
DTSTART;VALUE=DATE:20260619
DTEND;VALUE=DATE:20260620
SUMMARY:Juneteenth- Catalyst Schools Closed
URL:https://catalystschools.org/stay-connected/calendar/27-the-catalyst-sch
 ools/531-juneteenth-catalyst-schools-closed
END:VEVENT
END:VCALENDAR
